BEGIN:VCALENDAR
VERSION:2.0
PRODID:-//Paroisse Sainte-Marguerite-Bourgeoys (SMB) - ECPv4.8.1//NONSGML v1.0//EN
CALSCALE:GREGORIAN
METHOD:PUBLISH
X-WR-CALNAME:Paroisse Sainte-Marguerite-Bourgeoys (SMB)
X-ORIGINAL-URL:https://paroissesmb.org
X-WR-CALDESC:Évènements pour Paroisse Sainte-Marguerite-Bourgeoys (SMB)
BEGIN:VEVENT
DTSTART;TZID=America/New_York:20180314T090000
DTEND;TZID=America/New_York:20180314T120000
DTSTAMP:20260421T171847
CREATED:20180225T230915Z
LAST-MODIFIED:20180225T230915Z
UID:1330-1521018000-1521028800@paroissesmb.org
SUMMARY:VENTE D’ÉCOULEMENT DE VÊTEMENTS AUX AUBAINES SMB
DESCRIPTION:VENTE D’ÉCOULEMENT DE VÊTEMENTS\nAUX AUBAINES SMB\nPetit sac : 4$ Gros sac : 7$\n(nous fournissons les sacs)\nMercredis 28 février\, et 7 mars 2018\, de 9h à 15h\nMercredi 14 mars 2018\, de 9h à 12h\nÉgalement disponible sur place les mercredis : livres\, bijoux\,\njouets\, draperies\, tissus et artisanat. \n
URL:https://paroissesmb.org/event/vente-decoulement-de-vetements-aux-aubaines-smb-3/
LOCATION:Notre-Dame de L’Assomtion\, 3375 rue Windsor\, Saint-Hubert\, QC.\, J4T 2X9\, Canada
GEO:45.4986315;-73.4702715
X-APPLE-STRUCTURED-LOCATION;VALUE=URI;X-ADDRESS=Notre-Dame de L’Assomtion 3375 rue Windsor Saint-Hubert QC. J4T 2X9 Canada;X-APPLE-RADIUS=500;X-TITLE=3375 rue Windsor:geo:-73.4702715,45.4986315
CATEGORIES:Aubaines NDA
ATTACH;FMTTYPE=image/jpeg:https://paroissesmb.org/wp-content/uploads/2018/02/vetementnda.jpg
END:VEVENT
END:VCALENDAR