BEGIN:VCALENDAR
VERSION:2.0
PRODID:-//Paroisse Sainte-Marguerite-Bourgeoys (SMB) - ECPv4.8.1//NONSGML v1.0//EN
CALSCALE:GREGORIAN
METHOD:PUBLISH
X-WR-CALNAME:Paroisse Sainte-Marguerite-Bourgeoys (SMB)
X-ORIGINAL-URL:https://paroissesmb.org
X-WR-CALDESC:Évènements pour Paroisse Sainte-Marguerite-Bourgeoys (SMB)
BEGIN:VEVENT
DTSTART;TZID=America/New_York:20191019T173000
DTEND;TZID=America/New_York:20191019T193000
DTSTAMP:20260424T100039
CREATED:20190905T154622Z
LAST-MODIFIED:20190905T155131Z
UID:3302-1571506200-1571513400@paroissesmb.org
SUMMARY:Souper spaghetti
DESCRIPTION: \n
URL:https://paroissesmb.org/event/souper-spaghetti-2/
LOCATION:Sous-sol de l’église\, 3375 Rue Windsor\, Saint-Hubert\, QC\, J4T 1V9\, Canada
GEO:45.4986329;-73.4702736
X-APPLE-STRUCTURED-LOCATION;VALUE=URI;X-ADDRESS=Sous-sol de l’église 3375 Rue Windsor Saint-Hubert QC J4T 1V9 Canada;X-APPLE-RADIUS=500;X-TITLE=3375 Rue Windsor:geo:-73.4702736,45.4986329
END:VEVENT
END:VCALENDAR