BEGIN:VCALENDAR
VERSION:2.0
PRODID:-//Paroisse Sainte-Marguerite-Bourgeoys (SMB) - ECPv4.8.1//NONSGML v1.0//EN
CALSCALE:GREGORIAN
METHOD:PUBLISH
X-WR-CALNAME:Paroisse Sainte-Marguerite-Bourgeoys (SMB)
X-ORIGINAL-URL:https://paroissesmb.org
X-WR-CALDESC:Évènements pour Paroisse Sainte-Marguerite-Bourgeoys (SMB)
BEGIN:VEVENT
DTSTART;TZID=America/New_York:20190910T190000
DTEND;TZID=America/New_York:20190910T201500
DTSTAMP:20260424T071729
CREATED:20190903T135307Z
LAST-MODIFIED:20190903T135617Z
UID:3145-1568142000-1568146500@paroissesmb.org
SUMMARY:Soirée Prière
DESCRIPTION: \nEn ce 2e mardi du mois\, soit le 10 septembre\, de 19h à 20h15\, aura lieu la prochaine soirée de prières mensuelle. Nous débuterons cette fois-ci par la récitation du chapelet de St-Michel Archange et des Saints Anges suivi de prières. « Par leur intercession\, et par celle de Marie\, reine des Anges\, prions pour la préservation de la planète. »\n
URL:https://paroissesmb.org/event/soiree-priere/
LOCATION:Notre-Dame de L’Assomtion\, 3375 rue Windsor\, Saint-Hubert\, QC.\, J4T 2X9\, Canada
GEO:45.4986315;-73.4702715
X-APPLE-STRUCTURED-LOCATION;VALUE=URI;X-ADDRESS=Notre-Dame de L’Assomtion 3375 rue Windsor Saint-Hubert QC. J4T 2X9 Canada;X-APPLE-RADIUS=500;X-TITLE=3375 rue Windsor:geo:-73.4702715,45.4986315
CATEGORIES:Agenda Paroissial
END:VEVENT
END:VCALENDAR