BEGIN:VCALENDAR
VERSION:2.0
PRODID:-//Paroisse Sainte-Marguerite-Bourgeoys (SMB) - ECPv4.8.1//NONSGML v1.0//EN
CALSCALE:GREGORIAN
METHOD:PUBLISH
X-WR-CALNAME:Paroisse Sainte-Marguerite-Bourgeoys (SMB)
X-ORIGINAL-URL:https://paroissesmb.org
X-WR-CALDESC:Évènements pour Paroisse Sainte-Marguerite-Bourgeoys (SMB)
BEGIN:VEVENT
DTSTART;TZID=America/New_York:20200114T190000
DTEND;TZID=America/New_York:20200114T200000
DTSTAMP:20260424T143741
CREATED:20200114T142254Z
LAST-MODIFIED:20200114T142315Z
UID:3737-1579028400-1579032000@paroissesmb.org
SUMMARY:Soirée de prière
DESCRIPTION: \nEn ce début d’année\, c’est avec plaisir que nous vous invitons à l’église pour la première soirée de prière mensuelle. Nos prières seront dirigées vers les personnes travaillant dans le milieu médical. Venez vous joindre à nous. Ensemble\, nous prierons pour ces personnes qui prennent soin de nous. \nMaï Atalla \n
URL:https://paroissesmb.org/event/soiree-de-priere-2/
LOCATION:Notre-Dame de L’Assomtion\, 3375 rue Windsor\, Saint-Hubert\, QC.\, J4T 2X9\, Canada
GEO:45.4986315;-73.4702715
X-APPLE-STRUCTURED-LOCATION;VALUE=URI;X-ADDRESS=Notre-Dame de L’Assomtion 3375 rue Windsor Saint-Hubert QC. J4T 2X9 Canada;X-APPLE-RADIUS=500;X-TITLE=3375 rue Windsor:geo:-73.4702715,45.4986315
END:VEVENT
END:VCALENDAR