BEGIN:VCALENDAR
VERSION:2.0
PRODID:-//Paroisse Sainte-Marguerite-Bourgeoys (SMB) - ECPv4.8.1//NONSGML v1.0//EN
CALSCALE:GREGORIAN
METHOD:PUBLISH
X-WR-CALNAME:Paroisse Sainte-Marguerite-Bourgeoys (SMB)
X-ORIGINAL-URL:https://paroissesmb.org
X-WR-CALDESC:Évènements pour Paroisse Sainte-Marguerite-Bourgeoys (SMB)
BEGIN:VEVENT
DTSTART;TZID=America/New_York:20190406T130000
DTEND;TZID=America/New_York:20190406T200000
DTSTAMP:20260424T001253
CREATED:20190402T133759Z
LAST-MODIFIED:20190402T133942Z
UID:2730-1554555600-1554580800@paroissesmb.org
SUMMARY:Sacrement du pardon
DESCRIPTION: \n
URL:https://paroissesmb.org/event/sacrement-du-pardon-2/
LOCATION:Presbytère\, 3375 windsor\, saint-hubert\, quebec\, Canada
GEO:45.4986315;-73.4702715
X-APPLE-STRUCTURED-LOCATION;VALUE=URI;X-ADDRESS=Presbytère 3375 windsor saint-hubert quebec Canada;X-APPLE-RADIUS=500;X-TITLE=3375 windsor:geo:-73.4702715,45.4986315
END:VEVENT
END:VCALENDAR