BEGIN:VCALENDAR
VERSION:2.0
PRODID:-//Paroisse Sainte-Marguerite-Bourgeoys (SMB) - ECPv4.8.1//NONSGML v1.0//EN
CALSCALE:GREGORIAN
METHOD:PUBLISH
X-WR-CALNAME:Paroisse Sainte-Marguerite-Bourgeoys (SMB)
X-ORIGINAL-URL:https://paroissesmb.org
X-WR-CALDESC:Évènements pour Paroisse Sainte-Marguerite-Bourgeoys (SMB)
BEGIN:VEVENT
DTSTART;TZID=America/New_York:20190619T113000
DTEND;TZID=America/New_York:20190619T133000
DTSTAMP:20260424T072830
CREATED:20190515T143323Z
LAST-MODIFIED:20190515T143422Z
UID:2937-1560943800-1560951000@paroissesmb.org
SUMMARY:Repas de l'amitié
DESCRIPTION:  \nProchain repas de l’ amitié mercredi\, 19 juin 2019 de 11h30 à 13h30 \nPhotos  et détails à venir. \n
URL:https://paroissesmb.org/event/repas-de-lamitie-du-mois-de-mars-2-2/
LOCATION:Notre-Dame de L’Assomtion\, 3375 rue Windsor\, Saint-Hubert\, QC.\, J4T 2X9\, Canada
GEO:45.4986315;-73.4702715
X-APPLE-STRUCTURED-LOCATION;VALUE=URI;X-ADDRESS=Notre-Dame de L’Assomtion 3375 rue Windsor Saint-Hubert QC. J4T 2X9 Canada;X-APPLE-RADIUS=500;X-TITLE=3375 rue Windsor:geo:-73.4702715,45.4986315
CATEGORIES:Mini-bouffe & Repas de l'Amitié
END:VEVENT
END:VCALENDAR