BEGIN:VCALENDAR
VERSION:2.0
PRODID:-//Paroisse Sainte-Marguerite-Bourgeoys (SMB) - ECPv4.8.1//NONSGML v1.0//EN
CALSCALE:GREGORIAN
METHOD:PUBLISH
X-WR-CALNAME:Paroisse Sainte-Marguerite-Bourgeoys (SMB)
X-ORIGINAL-URL:https://paroissesmb.org
X-WR-CALDESC:Évènements pour Paroisse Sainte-Marguerite-Bourgeoys (SMB)
BEGIN:VEVENT
DTSTART;TZID=America/New_York:20190101T100000
DTEND;TZID=America/New_York:20190101T110000
DTSTAMP:20260421T114143
CREATED:20181227T163243Z
LAST-MODIFIED:20181227T163243Z
UID:1723-1546336800-1546340400@paroissesmb.org
SUMMARY:Messe (Jour de l'An)
DESCRIPTION:2019 \nAnnée « C » \n\nSainte Marie\, Mère de Dieu; Octave de la Nativité \n
URL:https://paroissesmb.org/event/messe-jour-de-lan/
LOCATION:Notre-Dame de L’Assomtion\, 3375 rue Windsor\, Saint-Hubert\, QC.\, J4T 2X9\, Canada
GEO:45.4986315;-73.4702715
X-APPLE-STRUCTURED-LOCATION;VALUE=URI;X-ADDRESS=Notre-Dame de L’Assomtion 3375 rue Windsor Saint-Hubert QC. J4T 2X9 Canada;X-APPLE-RADIUS=500;X-TITLE=3375 rue Windsor:geo:-73.4702715,45.4986315
CATEGORIES:Messe
ATTACH;FMTTYPE=image/jpeg:https://paroissesmb.org/wp-content/uploads/2018/12/téléchargement.jpg
END:VEVENT
END:VCALENDAR