BEGIN:VCALENDAR
VERSION:2.0
PRODID:-//Paroisse Sainte-Marguerite-Bourgeoys (SMB) - ECPv4.8.1//NONSGML v1.0//EN
CALSCALE:GREGORIAN
METHOD:PUBLISH
X-WR-CALNAME:Paroisse Sainte-Marguerite-Bourgeoys (SMB)
X-ORIGINAL-URL:https://paroissesmb.org
X-WR-CALDESC:Évènements pour Paroisse Sainte-Marguerite-Bourgeoys (SMB)
BEGIN:VEVENT
DTSTART;TZID=America/New_York:20190307T130000
DTEND;TZID=America/New_York:20190307T160000
DTSTAMP:20260423T162242
CREATED:20190308T024053Z
LAST-MODIFIED:20190323T014234Z
UID:1979-1551963600-1551974400@paroissesmb.org
SUMMARY:Entraide
DESCRIPTION:Dépannage alimentaire : \nInscription obligatoire: 450-812-5354 avant mercredi 12h (midi). \nLe dépannage alimentaire se fait les jeudis\, de 13h00 à 16h00 \nAu sous-sol de l’église; 1720 rue Georges\, Saint-Hubert. \nLors de votre inscription sur la boîte vocale\, laissez vos coordonnées et les responsables vous rappelleront pour convenir avec vous d’un rendez-vous. \nPour bénéficier d’un dépannage le jeudi\, vous devez vous inscrire avant mercredi 12h (midi). \n
URL:https://paroissesmb.org/event/entraide-2-2-2-2-2-2-2-2-2/
LOCATION:Sous-sol de l’église\, 3375 Rue Windsor\, Saint-Hubert\, QC\, J4T 1V9\, Canada
GEO:45.4986329;-73.4702736
X-APPLE-STRUCTURED-LOCATION;VALUE=URI;X-ADDRESS=Sous-sol de l’église 3375 Rue Windsor Saint-Hubert QC J4T 1V9 Canada;X-APPLE-RADIUS=500;X-TITLE=3375 Rue Windsor:geo:-73.4702736,45.4986329
CATEGORIES:Entraide
ORGANIZER;CN="Shanelle%20Humphrey":MAILTO:paroissesmb@videotron.ca
END:VEVENT
END:VCALENDAR