BEGIN:VCALENDAR
VERSION:2.0
PRODID:-//Paroisse Sainte-Marguerite-Bourgeoys (SMB) - ECPv4.8.1//NONSGML v1.0//EN
CALSCALE:GREGORIAN
METHOD:PUBLISH
X-WR-CALNAME:Paroisse Sainte-Marguerite-Bourgeoys (SMB)
X-ORIGINAL-URL:https://paroissesmb.org
X-WR-CALDESC:Évènements pour Paroisse Sainte-Marguerite-Bourgeoys (SMB)
BEGIN:VEVENT
DTSTART;TZID=America/New_York:20190611T080000
DTEND;TZID=America/New_York:20190611T170000
DTSTAMP:20260424T072014
CREATED:20190611T145450Z
LAST-MODIFIED:20190611T145504Z
UID:2972-1560240000-1560272400@paroissesmb.org
SUMMARY:Dernier repas de l'amitié - 19 juin 2019
DESCRIPTION: \n
URL:https://paroissesmb.org/event/dernier-repas-de-lamitie-19-juin-2019/
LOCATION:Notre-Dame de L’Assomtion\, 3375 rue Windsor\, Saint-Hubert\, QC.\, J4T 2X9\, Canada
GEO:45.4986315;-73.4702715
X-APPLE-STRUCTURED-LOCATION;VALUE=URI;X-ADDRESS=Notre-Dame de L’Assomtion 3375 rue Windsor Saint-Hubert QC. J4T 2X9 Canada;X-APPLE-RADIUS=500;X-TITLE=3375 rue Windsor:geo:-73.4702715,45.4986315
END:VEVENT
END:VCALENDAR