BEGIN:VCALENDAR
VERSION:2.0
PRODID:-//Paroisse Sainte-Marguerite-Bourgeoys (SMB) - ECPv4.8.1//NONSGML v1.0//EN
CALSCALE:GREGORIAN
METHOD:PUBLISH
X-WR-CALNAME:Paroisse Sainte-Marguerite-Bourgeoys (SMB)
X-ORIGINAL-URL:https://paroissesmb.org
X-WR-CALDESC:Évènements pour Paroisse Sainte-Marguerite-Bourgeoys (SMB)
BEGIN:VEVENT
DTSTART;TZID=America/New_York:20180418T190000
DTEND;TZID=America/New_York:20180418T200000
DTSTAMP:20260421T210854
CREATED:20180225T222748Z
LAST-MODIFIED:20180225T223204Z
UID:1317-1524078000-1524081600@paroissesmb.org
SUMMARY:Conférence de Bertrand Dumont\, Horticulteur
DESCRIPTION:« Cultivons Laflèche Ensemble » : Soirée d’information ouverte à tous\nsur le projet de jardins à partager dans le quartier Laflèche.\nAu CAB St-Hubert (3339 Grande-Allée)\nLe mercredi 14 mars 2018 à 19h00\nLe mercredi 18 avril 2018 à 19h00\, avec conférence de Bertrand\nDumont\, Horticulteur\nInformation et inscription: Annie Nobert 450-656-9110 p. 223.\nLes places sont limitées! \n
URL:https://paroissesmb.org/event/conference-de-bertrand-dumont-horticulteur/
LOCATION:CAB ST-HUBRT\, 3339 Grande-Allée\, St-Hubert\, QC.\, Canada
GEO:45.4963852;-73.4753868
X-APPLE-STRUCTURED-LOCATION;VALUE=URI;X-ADDRESS=CAB ST-HUBRT 3339 Grande-Allée St-Hubert QC. Canada;X-APPLE-RADIUS=500;X-TITLE=3339 Grande-Allée:geo:-73.4753868,45.4963852
CATEGORIES:Entraide,La Relève
END:VEVENT
END:VCALENDAR