BEGIN:VCALENDAR
VERSION:2.0
PRODID:-//Paroisse Sainte-Marguerite-Bourgeoys (SMB) - ECPv4.8.1//NONSGML v1.0//EN
CALSCALE:GREGORIAN
METHOD:PUBLISH
X-WR-CALNAME:Paroisse Sainte-Marguerite-Bourgeoys (SMB)
X-ORIGINAL-URL:https://paroissesmb.org
X-WR-CALDESC:Évènements pour Paroisse Sainte-Marguerite-Bourgeoys (SMB)
BEGIN:VEVENT
DTSTART;VALUE=DATE:20200331
DTEND;VALUE=DATE:20200401
DTSTAMP:20260424T205957
CREATED:20200302T135249Z
LAST-MODIFIED:20200302T152602Z
UID:3824-1585612800-1585699199@paroissesmb.org
SUMMARY:Célébration du sacrement du pardon
DESCRIPTION:La réconciliation ou le sacrement du pardon a été institué pour aider les chrétiens et chrétiennes à se relever après qu’ils soient retombés dans le péché après le baptême.\n\n\nVivre le sacrement est donc une chance de: \n\n se réconcilier avec Dieu\n renouveler en soi la grâce baptismale\n grandir dans la vie de communion avec Dieu et les autres.\n\nVisitez la page Pastorale intergénérationnelle\, où vous pourrez en apprendre davantage à propos des rassemblements communautaires intergénérationnels et inclusifs (RCII) qui constituent la porte d’entrée pour cheminer vers les sacrements. \nVoir aussi les pages Catéchèse pour les 8 à 13 ans ou Catéchuménat des adultes pour obtenir plus d’informations sur les étapes du sacrement de la réconciliation. \n\n\n \n
URL:https://paroissesmb.org/event/celebration-du-sacrement-du-pardon/
LOCATION:Notre-Dame de L’Assomtion\, 3375 rue Windsor\, Saint-Hubert\, QC.\, J4T 2X9\, Canada
GEO:45.4986315;-73.4702715
X-APPLE-STRUCTURED-LOCATION;VALUE=URI;X-ADDRESS=Notre-Dame de L’Assomtion 3375 rue Windsor Saint-Hubert QC. J4T 2X9 Canada;X-APPLE-RADIUS=500;X-TITLE=3375 rue Windsor:geo:-73.4702715,45.4986315
CATEGORIES:Messe
END:VEVENT
END:VCALENDAR