BEGIN:VCALENDAR
VERSION:2.0
PRODID:-//Paroisse Sainte-Marguerite-Bourgeoys (SMB) - ECPv4.8.1//NONSGML v1.0//EN
CALSCALE:GREGORIAN
METHOD:PUBLISH
X-WR-CALNAME:Paroisse Sainte-Marguerite-Bourgeoys (SMB)
X-ORIGINAL-URL:https://paroissesmb.org
X-WR-CALDESC:Évènements pour Paroisse Sainte-Marguerite-Bourgeoys (SMB)
BEGIN:VEVENT
DTSTART;VALUE=DATE:20180601
DTEND;VALUE=DATE:20180607
DTSTAMP:20260421T155451
CREATED:20180303T210051Z
LAST-MODIFIED:20180517T205938Z
UID:1381-1527811200-1528329599@paroissesmb.org
SUMMARY:Camp familial catholique
DESCRIPTION:À toutes familles catholiques désirant vivre un temps de ressourcement et de détente… Rejoignez-nous à Plein Air\nVille-Joie pour y vivre le Camp familial catholique du dimanche 1er juillet au vendredi 6 juillet 2018. L’endroit\nest situé à Trois-Rivières (secteur Pointe-du-Lac). Là-bas\, nous y attend une équipe dynamique et chevronnée;\nvous passerez des vacances à la fois enrichissantes et reposantes. Un bel équilibre vous est offert entre les activités sportives\, animations pastorales et spirituelles en famille et par groupes d’âge.\n\nContactez Nancy Laplante au 450-635-0305 ou par courriel campfamilialcatholique@gmail.com\nou consultez notre page Facebook : Camp familial catholique\n
URL:https://paroissesmb.org/event/camp-familial-catholique/
CATEGORIES:Entraide
ATTACH;FMTTYPE=image/jpeg:https://paroissesmb.org/wp-content/uploads/2018/03/Camp-familial-cath-2018.jpg
ORGANIZER;CN="Nancy%20Laplante":MAILTO:campfamilialcatholique @ gmail.com
END:VEVENT
END:VCALENDAR