BEGIN:VCALENDAR
VERSION:2.0
PRODID:-//Paroisse Sainte-Marguerite-Bourgeoys (SMB) - ECPv4.8.1//NONSGML v1.0//EN
CALSCALE:GREGORIAN
METHOD:PUBLISH
X-WR-CALNAME:Paroisse Sainte-Marguerite-Bourgeoys (SMB)
X-ORIGINAL-URL:https://paroissesmb.org
X-WR-CALDESC:Évènements pour Paroisse Sainte-Marguerite-Bourgeoys (SMB)
BEGIN:VEVENT
DTSTART;TZID=America/New_York:20180308T163000
DTEND;TZID=America/New_York:20180308T163000
DTSTAMP:20260421T183451
CREATED:20180225T224044Z
LAST-MODIFIED:20180225T224044Z
UID:1323-1520526600-1520526600@paroissesmb.org
SUMMARY:CAFÉ POÉSIE POUR LA JOURNÉE DE LA FEMME
DESCRIPTION:CAFÉ POÉSIE POUR LA JOURNÉE DE LA FEMME\nVous êtes invités le mardi 8 mars 2018 à 13h30\, pour le 17e Café Poésie afin\nsouligner la Journée de la Femme. Menu du jour\, poésie et goûter\nCOMMUNAUTAIRE à maison de l’artiste Rose Lévesque:\n1432\, De Gaulle à Saint-Hubert.\nPlaces limitées\, réservez tôt. Prix 5$\, et un plat à partager\nInformations : (450) 656-3399 ou www.rose-levesque.com \n
URL:https://paroissesmb.org/event/cafe-poesie-pour-la-journee-de-la-femme/
LOCATION:Artiste Rose Lévesque\, 1432\, De Gaulle\, St-Hubert\, QC.\, Canada
GEO:45.4988568;-73.4617799
X-APPLE-STRUCTURED-LOCATION;VALUE=URI;X-ADDRESS=Artiste Rose Lévesque 1432 De Gaulle St-Hubert QC. Canada;X-APPLE-RADIUS=500;X-TITLE=1432\, De Gaulle:geo:-73.4617799,45.4988568
CATEGORIES:Entraide,SOUPER-BÉNÉFICE
END:VEVENT
END:VCALENDAR