BEGIN:VCALENDAR
VERSION:2.0
PRODID:-//Paroisse Sainte-Marguerite-Bourgeoys (SMB) - ECPv4.8.1//NONSGML v1.0//EN
CALSCALE:GREGORIAN
METHOD:PUBLISH
X-WR-CALNAME:Paroisse Sainte-Marguerite-Bourgeoys (SMB)
X-ORIGINAL-URL:https://paroissesmb.org
X-WR-CALDESC:Évènements pour Paroisse Sainte-Marguerite-Bourgeoys (SMB)
BEGIN:VEVENT
DTSTART;TZID=America/New_York:20191107T100000
DTEND;TZID=America/New_York:20191107T200000
DTSTAMP:20260424T100554
CREATED:20190916T150630Z
LAST-MODIFIED:20190920T140140Z
UID:3317-1573120800-1573156800@paroissesmb.org
SUMMARY:BAZAR 2019
DESCRIPTION: \n
URL:https://paroissesmb.org/event/bazar-2019/2019-11-07/
LOCATION:Notre-Dame de L’Assomtion\, 3375 rue Windsor\, Saint-Hubert\, QC.\, J4T 2X9\, Canada
GEO:45.4986315;-73.4702715
X-APPLE-STRUCTURED-LOCATION;VALUE=URI;X-ADDRESS=Notre-Dame de L’Assomtion 3375 rue Windsor Saint-Hubert QC. J4T 2X9 Canada;X-APPLE-RADIUS=500;X-TITLE=3375 rue Windsor:geo:-73.4702715,45.4986315
CATEGORIES:Aubaines NDA
END:VEVENT
END:VCALENDAR