BEGIN:VCALENDAR
VERSION:2.0
PRODID:-//Paroisse Sainte-Marguerite-Bourgeoys (SMB) - ECPv4.8.1//NONSGML v1.0//EN
CALSCALE:GREGORIAN
METHOD:PUBLISH
X-WR-CALNAME:Paroisse Sainte-Marguerite-Bourgeoys (SMB)
X-ORIGINAL-URL:https://paroissesmb.org
X-WR-CALDESC:Évènements pour Paroisse Sainte-Marguerite-Bourgeoys (SMB)
BEGIN:VEVENT
DTSTART;TZID=America/New_York:20190313T090000
DTEND;TZID=America/New_York:20190313T150000
DTSTAMP:20260423T192405
CREATED:20190323T015050Z
LAST-MODIFIED:20190323T015050Z
UID:2005-1552467600-1552489200@paroissesmb.org
SUMMARY:Aubaines\, Tissus & Artisanats SMB
DESCRIPTION:Besoin d’une idée-cadeau originale? Notre comptoir d’artisanat regorge de créations uniques et faites à la main. Vous pouvez aussi vous procurer du tissus à bon prix (2$+/mètre) ainsi que d’autres articles de couture (patrons\, dentelle\, boutons\, laine\, etc). \nVêtements à prix modique  pour toute la famille. Il y a aussi des bijoux\, des livres\, CDs\, DVDs\, cassettes\, jouets\, articles pour bébés\, jouets et draperies… \nEndroit:  Église Notre-Dame-de-l’Assomption \n\nPassez par la porte donnant sur la rue Georges (1720 rue Georges)\, ou celle donnant sur la rue Albert.\n\nHeures d’ouverture: tous les mercredis de 9h à 15h00. \n
URL:https://paroissesmb.org/event/aubaines-tissus-artisanats-smb-2-2-2-2-2/
LOCATION:Sous-sol de l’église\, 3375 Rue Windsor\, Saint-Hubert\, QC\, J4T 1V9\, Canada
GEO:45.4986329;-73.4702736
X-APPLE-STRUCTURED-LOCATION;VALUE=URI;X-ADDRESS=Sous-sol de l’église 3375 Rue Windsor Saint-Hubert QC J4T 1V9 Canada;X-APPLE-RADIUS=500;X-TITLE=3375 Rue Windsor:geo:-73.4702736,45.4986329
CATEGORIES:Aubaines NDA
ORGANIZER;CN="Shanelle%20Humphrey":MAILTO:paroissesmb@videotron.ca
END:VEVENT
END:VCALENDAR