BEGIN:VCALENDAR
VERSION:2.0
PRODID:-//Paroisse Sainte-Marguerite-Bourgeoys (SMB) - ECPv4.8.1//NONSGML v1.0//EN
CALSCALE:GREGORIAN
METHOD:PUBLISH
X-WR-CALNAME:Paroisse Sainte-Marguerite-Bourgeoys (SMB)
X-ORIGINAL-URL:https://paroissesmb.org
X-WR-CALDESC:Évènements pour Paroisse Sainte-Marguerite-Bourgeoys (SMB)
BEGIN:VEVENT
DTSTART;TZID=America/New_York:20220326T100000
DTEND;TZID=America/New_York:20220326T160000
DTSTAMP:20260425T005757
CREATED:20220316T140424Z
LAST-MODIFIED:20220316T140424Z
UID:6511-1648288800-1648310400@paroissesmb.org
SUMMARY:5e Anniversaire du Cursillos
DESCRIPTION:JENNCAR \n
URL:https://paroissesmb.org/event/5e-anniversaire-du-cursillos/
LOCATION:Notre-Dame de L’Assomtion\, 3375 rue Windsor\, Saint-Hubert\, QC.\, J4T 2X9\, Canada
GEO:45.4986315;-73.4702715
X-APPLE-STRUCTURED-LOCATION;VALUE=URI;X-ADDRESS=Notre-Dame de L’Assomtion 3375 rue Windsor Saint-Hubert QC. J4T 2X9 Canada;X-APPLE-RADIUS=500;X-TITLE=3375 rue Windsor:geo:-73.4702715,45.4986315
END:VEVENT
END:VCALENDAR