BEGIN:VCALENDAR
VERSION:2.0
PRODID:-//Paroisse Sainte-Marguerite-Bourgeoys (SMB) - ECPv4.8.1//NONSGML v1.0//EN
CALSCALE:GREGORIAN
METHOD:PUBLISH
X-WR-CALNAME:Paroisse Sainte-Marguerite-Bourgeoys (SMB)
X-ORIGINAL-URL:https://paroissesmb.org
X-WR-CALDESC:Évènements pour Paroisse Sainte-Marguerite-Bourgeoys (SMB)
BEGIN:VEVENT
DTSTART;TZID=America/New_York:20180311T110000
DTEND;TZID=America/New_York:20180311T120000
DTSTAMP:20260421T184137
CREATED:20180225T221623Z
LAST-MODIFIED:20180225T225001Z
UID:1313-1520766000-1520769600@paroissesmb.org
SUMMARY:ÉLECTION MARGUILLIERS
DESCRIPTION:* votre présence est importante! *\nUNE ASSEMBLÉE DES PAROISSIENS EST CONVOQUÉE\nEN VUE D’ÉLIRE 3 MARGUILLIERS (1 mandat de 2 ans\, 2 mandats de 3 ans)\nDimanche\, le 11 mars 2018\naprès la messe de 10h (vers 11h00)\nà l’église Notre-Dame-de-l’Assomption\n3375\, Windsor\, Saint-Hubert \n
URL:https://paroissesmb.org/event/1313/
LOCATION:Notre-Dame de L’Assomtion\, 3375 rue Windsor\, Saint-Hubert\, QC.\, J4T 2X9\, Canada
GEO:45.4986315;-73.4702715
X-APPLE-STRUCTURED-LOCATION;VALUE=URI;X-ADDRESS=Notre-Dame de L’Assomtion 3375 rue Windsor Saint-Hubert QC. J4T 2X9 Canada;X-APPLE-RADIUS=500;X-TITLE=3375 rue Windsor:geo:-73.4702715,45.4986315
CATEGORIES:Assemblée de Frabrique
ATTACH;FMTTYPE=image/jpeg:https://paroissesmb.org/wp-content/uploads/2018/02/Fabrique.jpg
ORGANIZER;CN="C%C3%A9line%20Wakil":MAILTO:celine.wakil@paroissesmb.org
END:VEVENT
END:VCALENDAR